BEGIN:VCALENDAR
VERSION:2.0
CREATED:20260421T044016Z
PRODID:-//BETA Technologies\, Inc./Equisolve Calendar v1.0//EN
METHOD:PUBLISH
BEGIN:VEVENT
UID:45f95de95800d67edbf51716aa9158e6
DTSTAMP:20260422T122639Z
DTSTART:20260512T123000Z
DTEND:20260512T133000Z
SUMMARY:BETA Technologies First Quarter 2026 Financial Results Conference Call
DESCRIPTION:BETA Technologies First Quarter 2026 Financial Results Conference Call\nDate: May 12\, 2026 8:30 am EDT\nWebcast: https://events.q4inc.com/attendee/560222944
END:VEVENT
END:VCALENDAR
